BEGIN:VCALENDAR
VERSION:2.0
CALSCALE:GREGORIAN
METHOD:PUBLISH
PRODID://WGCC//1407777
BEGIN:VEVENT
DTSTAMP:20260420T150132
VTIMEZONE:America/Denver
DTSTART:20260204T190000Z
DTEND:20260204T200000Z
UID:1407777
SUMMARY:Living Well as You Age: Practical Tips for Lifelong Vitality
LOCATION:, CO
DESCRIPTION:Living Well as You Age: Practical Tips for Lifelong Vitality\n\n02/04/26 12:00 PM MST\n - 02/04/26 01:00 PM MST\Description:\n Presented by Susan Williams, MD, an internist at Valley View’s Internal Medicine – The Zoom link is: https://vvh.zoom.us/webinar/register/9017648032861/WN_RF80MG6hRTqeEiS6FUsCNA\nLearn about what annual screenings along with diet and lifestyle changes can help you age well. This 30-minute webinar, followed by open Q&A, will be led by Internist Dr. Susan Williams, part of Valley View Internal Medicine.\n\nThere is no cost to attend this class.\n
X-ALT-DESC;FMTTYPE=text/html:Living Well as You Age: Practical Tips for Lifelong Vitality<br /><br />02/04/26 12:00 PM MST - 02/04/26 01:00 PM MST<br />Description:<br />&nbsp;Presented&nbsp;by Susan Williams, MD, an internist at Valley View&rsquo;s Internal Medicine &ndash; The Zoom link is:&nbsp;<a href="https://vvh.zoom.us/webinar/register/9017648032861/WN_RF80MG6hRTqeEiS6FUsCNA" rel="noopener" target="_blank">https://vvh.zoom.us/webinar/register/9017648032861/WN_RF80MG6hRTqeEiS6FUsCNA</a>
<p>Learn about what annual screenings along with diet and lifestyle changes can help you age well. This 30-minute webinar, followed by open Q&amp;A, will be led by Internist Dr. Susan Williams, part of Valley View Internal Medicine.</p>

<p>There is no cost to attend this class.</p>

PRIORITY:3
TRANSP:TRANSPARENT
BEGIN:VALARM
TRIGGER:-PT5M
ACTION:DISPLAY
DESCRIPTION:Reminder
END:VALARM
END:VEVENT
END:VCALENDAR
