BEGIN:VCALENDAR
VERSION:2.0
CALSCALE:GREGORIAN
METHOD:PUBLISH
PRODID://WGCC//1407779
BEGIN:VEVENT
DTSTAMP:20260420T151001
VTIMEZONE:America/Denver
DTSTART:20260218T190000Z
DTEND:20260218T200000Z
UID:1407779
SUMMARY:Navigating the Change: What Every Woman Should Know About Perimenopause and Menopause
LOCATION:, CO
DESCRIPTION:Navigating the Change: What Every Woman Should Know About Perimenopause and Menopause\n\n02/18/26 12:00 PM MST\n - 02/18/26 01:00 PM MST\Description:\nLearn about perimenopause and menopause, what to expect and how to manage symptoms effectively. This 30-minute webinar, followed by open Q&A, will be led by Family Medicine Physician Dr. Haley Hoffman, part of Valley View’s Roaring Fork Family Practice.\n\nThere is no cost to attend this class.\nPresented by Haley Hoffman, DO, a trained family medicine physician at Valley View's Roaring Fork Family Practice – The Zoom link is: https://vvh.zoom.us/webinar/register/8017648031231/WN_hFVHVb-NQVm9w5f4LhSI8w\n
X-ALT-DESC;FMTTYPE=text/html:Navigating the Change: What Every Woman Should Know About Perimenopause and Menopause<br /><br />02/18/26 12:00 PM MST - 02/18/26 01:00 PM MST<br />Description:<br /><p>Learn about perimenopause and menopause, what to expect and how to manage symptoms effectively. This 30-minute webinar, followed by open Q&amp;A, will be led by Family Medicine Physician Dr. Haley Hoffman, part of Valley View&rsquo;s Roaring Fork Family Practice.</p>

<p>There is no cost to attend this class.<br />
Presented by Haley Hoffman, DO,&nbsp;a trained family medicine physician at Valley View's Roaring Fork Family Practice &ndash; The Zoom link is:&nbsp;<a href="https://vvh.zoom.us/webinar/register/8017648031231/WN_hFVHVb-NQVm9w5f4LhSI8w" rel="noopener" target="_blank">https://vvh.zoom.us/webinar/register/8017648031231/WN_hFVHVb-NQVm9w5f4LhSI8w</a></p>

PRIORITY:3
TRANSP:TRANSPARENT
BEGIN:VALARM
TRIGGER:-PT5M
ACTION:DISPLAY
DESCRIPTION:Reminder
END:VALARM
END:VEVENT
END:VCALENDAR
