BEGIN:VCALENDAR
VERSION:2.0
CALSCALE:GREGORIAN
METHOD:PUBLISH
PRODID://WGCC//1407781
BEGIN:VEVENT
DTSTAMP:20260420T150012
VTIMEZONE:America/Denver
DTSTART:20260225T190000Z
DTEND:20260225T200000Z
UID:1407781
SUMMARY:Understanding Chest Pain and Heart Failure in Women
LOCATION:, CO
DESCRIPTION:Understanding Chest Pain and Heart Failure in Women\n\n02/25/26 12:00 PM MST\n - 02/25/26 01:00 PM MST\Description:\nPresented by Sonja Hanson Fauchet, PA-C, MPAS, a cardiology physician assistant at Valley View’s Heart and Vascular Center – The Zoom link is: https://vvh.zoom.us/webinar/register/9217648033177/WN_IWQvdlWiSUSLSZwUa9clFw\n\nLearn how to recognize chest pain in women including symptoms of diastolic heart failure, when to seek care and treatment options. This 30-minute webinar, followed by open Q&A, will be led by Cardiology Physician Assistant Sonja Hanson Fauchet, PA-C, part of Valley View’s Heart and Vascular Center.\n\nThere is no cost to attend this class.\n
X-ALT-DESC;FMTTYPE=text/html:Understanding Chest Pain and Heart Failure in Women<br /><br />02/25/26 12:00 PM MST - 02/25/26 01:00 PM MST<br />Description:<br />Presented&nbsp;by Sonja Hanson Fauchet, PA-C, MPAS, a cardiology physician assistant at Valley View&rsquo;s Heart and Vascular Center &ndash; The Zoom link is:&nbsp;<a href="https://vvh.zoom.us/webinar/register/9217648033177/WN_IWQvdlWiSUSLSZwUa9clFw" rel="noopener" target="_blank">https://vvh.zoom.us/webinar/register/9217648033177/WN_IWQvdlWiSUSLSZwUa9clFw</a>

<p>Learn how to recognize chest pain in women including symptoms of diastolic heart failure, when to seek care and treatment options. This 30-minute webinar, followed by open Q&amp;A, will be led by Cardiology Physician Assistant Sonja Hanson Fauchet, PA-C, part of Valley View&rsquo;s Heart and Vascular Center.</p>

<p>There is no cost to attend this class.</p>

PRIORITY:3
TRANSP:TRANSPARENT
BEGIN:VALARM
TRIGGER:-PT5M
ACTION:DISPLAY
DESCRIPTION:Reminder
END:VALARM
END:VEVENT
END:VCALENDAR
