BEGIN:VCALENDAR
VERSION:2.0
CALSCALE:GREGORIAN
METHOD:PUBLISH
PRODID://WGCC//1408217
BEGIN:VEVENT
DTSTAMP:20260420T151046
VTIMEZONE:America/Denver
DTSTART:20260212T170000Z
DTEND:20260213T230000Z
UID:1408217
SUMMARY:A Grand Chance for Cholcolate
LOCATION:Grand River Hospital, 501 Airport Rd, Rifle, CO, 81650
DESCRIPTION:A Grand Chance for Cholcolate\n\n02/12/26 10:00 AM MST\n - 02/13/26 04:00 PM MST\Description:\nAvailable for purchase Thursday & Friday!\n\n	Beautiful flower bouquets\n	Artisan chocolates\n	Baskets & boxes of chocolates, fudge, doggies bones, or specialty packages of your choosing\n\nLocated in the southeast patient wing outside Grand River Gifts.\Location:\nGrand River Hospital\n501 Airport Rd\nRifle, CO 81650
X-ALT-DESC;FMTTYPE=text/html:A Grand Chance for Cholcolate<br /><br />02/12/26 10:00 AM MST - 02/13/26 04:00 PM MST<br />Description:<br />Available for purchase Thursday &amp; Friday!
<ul>
	<li>Beautiful flower bouquets</li>
	<li>Artisan chocolates</li>
	<li>Baskets &amp; boxes of chocolates, fudge, doggies bones, or specialty packages of your choosing</li>
</ul>
Located in the southeast patient wing outside Grand River Gifts.<br />Location:<br />Grand River Hospital<br />501 Airport Rd<br />Rifle, CO 81650
PRIORITY:3
TRANSP:TRANSPARENT
BEGIN:VALARM
TRIGGER:-PT5M
ACTION:DISPLAY
DESCRIPTION:Reminder
END:VALARM
END:VEVENT
END:VCALENDAR
