BEGIN:VCALENDAR
VERSION:2.0
CALSCALE:GREGORIAN
METHOD:PUBLISH
PRODID://WGCC//1408242
BEGIN:VEVENT
DTSTAMP:20260420T150117
VTIMEZONE:America/Denver
DTSTART:20260212T003000Z
DTEND:20260212T020000Z
UID:1408242
SUMMARY:CRVC Workshop with B:Side
LOCATION:Rifle Branch Library , 207 East Ave, Rifle, CO, 81650
DESCRIPTION:CRVC Workshop with B:Side\n\n02/11/26 05:30 PM MST\n - 02/11/26 07:00 PM MST\Description:\nThinking About a Business Loan? 10 Things to Consider\nJoin us for an informal, interactive workshop where you can ask questions and learn what to know before you borrow.\n\n \n\Location:\nRifle Branch Library \n207 East Ave\nRifle, CO 81650
X-ALT-DESC;FMTTYPE=text/html:CRVC Workshop with B:Side<br /><br />02/11/26 05:30 PM MST - 02/11/26 07:00 PM MST<br />Description:<br /><h1 data-end="328" data-start="271"><strong data-end="328" data-start="271">Thinking About a Business Loan? 10 Things to Consider</strong></h1>
Join us for an informal, interactive workshop where you can ask questions and learn what to know before you borrow.

<h1 data-end="356" data-start="330">&nbsp;</h1>
<br />Location:<br />Rifle Branch Library <br />207 East Ave<br />Rifle, CO 81650
PRIORITY:3
TRANSP:TRANSPARENT
BEGIN:VALARM
TRIGGER:-PT5M
ACTION:DISPLAY
DESCRIPTION:Reminder
END:VALARM
END:VEVENT
END:VCALENDAR
