BEGIN:VCALENDAR
VERSION:2.0
CALSCALE:GREGORIAN
METHOD:PUBLISH
PRODID://WGCC//1410191
BEGIN:VEVENT
DTSTAMP:20260420T145927
VTIMEZONE:America/Denver
DTSTART:20260224T180000Z
DTEND:20260224T210000Z
UID:1410191
SUMMARY:2026 State of the Community
LOCATION:Grand River Health, 501 Airport Rd, Rifle, CO, 81650
DESCRIPTION:2026 State of the Community\n\n02/24/26 11:00 AM MST\n - 02/24/26 02:00 PM MST\Description:\nJoin us for a State of the Community update where the municipalities from New Castle to Parachute will be sharing upcoming projects, initiatives, and events. \Location:\nGrand River Health\n501 Airport Rd\nRifle, CO 81650
X-ALT-DESC;FMTTYPE=text/html:2026 State of the Community<br /><br />02/24/26 11:00 AM MST - 02/24/26 02:00 PM MST<br />Description:<br />Join us for a State of the Community update where the municipalities from New Castle to Parachute will be sharing upcoming projects, initiatives, and events.&nbsp;<br />Location:<br />Grand River Health<br />501 Airport Rd<br />Rifle, CO 81650
PRIORITY:3
TRANSP:TRANSPARENT
BEGIN:VALARM
TRIGGER:-PT5M
ACTION:DISPLAY
DESCRIPTION:Reminder
END:VALARM
END:VEVENT
END:VCALENDAR
