BEGIN:VCALENDAR
VERSION:2.0
CALSCALE:GREGORIAN
METHOD:PUBLISH
PRODID://WGCC//1410759
BEGIN:VEVENT
DTSTAMP:20260420T151237
VTIMEZONE:America/Denver
DTSTART:20260227T170000Z
DTEND:20260227T190000Z
UID:1410759
SUMMARY:Ribbon Cutting for Quartz Dentistry 
LOCATION:Quartz Dentistry , 1430 A Railroad Ave, Rifle, CO, 81650
DESCRIPTION:Ribbon Cutting for Quartz Dentistry \n\n02/27/26 10:00 AM MST\n - 02/27/26 12:00 PM MST\Description:\nWe’re cutting the ribbon at Quartz Dentistry! Join the celebration, bring a friend, and help us welcome something special to our community.\Location:\nQuartz Dentistry \n1430 A Railroad Ave\nRifle, CO 81650
X-ALT-DESC;FMTTYPE=text/html:Ribbon Cutting for Quartz Dentistry <br /><br />02/27/26 10:00 AM MST - 02/27/26 12:00 PM MST<br />Description:<br />We&rsquo;re cutting the ribbon at Quartz Dentistry! Join the celebration, bring a friend, and help us welcome something special to our community.<br />Location:<br />Quartz Dentistry <br />1430 A Railroad Ave<br />Rifle, CO 81650
PRIORITY:3
TRANSP:TRANSPARENT
BEGIN:VALARM
TRIGGER:-PT5M
ACTION:DISPLAY
DESCRIPTION:Reminder
END:VALARM
END:VEVENT
END:VCALENDAR
