BEGIN:VCALENDAR
VERSION:2.0
CALSCALE:GREGORIAN
METHOD:PUBLISH
PRODID://WGCC//1410768
BEGIN:VEVENT
DTSTAMP:20260420T151419
VTIMEZONE:America/Denver
DTSTART:20260416T233000Z
DTEND:20260417T010000Z
UID:1410768
SUMMARY:Business After Hours with The Rough Bar & Grill 
LOCATION:The Rough Bar & Grill, 3004 Highway 325, Rifle, CO, 81650
DESCRIPTION:Business After Hours with The Rough Bar & Grill \n\n04/16/26 05:30 PM MST\n - 04/16/26 07:00 PM MST\Description:\nJoin us for April's Business After Hours at The Rough Bar & Grill. Step out, network, and grow your business in a casual and welcoming setting. Don’t miss this chance to build relationships and spark new opportunities! Bring a friend and we hope to see you there. \Location:\nThe Rough Bar & Grill\n3004 Highway 325\nRifle, CO 81650
X-ALT-DESC;FMTTYPE=text/html:Business After Hours with The Rough Bar & Grill <br /><br />04/16/26 05:30 PM MST - 04/16/26 07:00 PM MST<br />Description:<br />Join us for April's Business After Hours at The Rough Bar &amp; Grill. Step out, network, and grow your business in a casual and welcoming setting. Don&rsquo;t miss this chance to build relationships and spark new opportunities! Bring a friend and we hope to see you there.&nbsp;<br />Location:<br />The Rough Bar & Grill<br />3004 Highway 325<br />Rifle, CO 81650
PRIORITY:3
TRANSP:TRANSPARENT
BEGIN:VALARM
TRIGGER:-PT5M
ACTION:DISPLAY
DESCRIPTION:Reminder
END:VALARM
END:VEVENT
END:VCALENDAR
