BEGIN:VCALENDAR
VERSION:2.0
CALSCALE:GREGORIAN
METHOD:PUBLISH
PRODID://WGCC//1411232
BEGIN:VEVENT
DTSTAMP:20260420T113457
VTIMEZONE:America/Denver
DTSTART:20260501T233000Z
DTEND:20260502T023000Z
UID:1411232
SUMMARY:Cinco de Mayo 2026
LOCATION:Imperio Mexican Restaurant , 1733 Railroad Ave, Rifle, CO, 81650
DESCRIPTION:Cinco de Mayo 2026\n\n05/01/26 05:30 PM MST\n - 05/01/26 08:30 PM MST\Location:\nImperio Mexican Restaurant \n1733 Railroad Ave\nRifle, CO 81650
X-ALT-DESC;FMTTYPE=text/html:Cinco de Mayo 2026<br /><br />05/01/26 05:30 PM MST - 05/01/26 08:30 PM MST<br />Location:<br />Imperio Mexican Restaurant <br />1733 Railroad Ave<br />Rifle, CO 81650
PRIORITY:3
TRANSP:TRANSPARENT
BEGIN:VALARM
TRIGGER:-PT5M
ACTION:DISPLAY
DESCRIPTION:Reminder
END:VALARM
END:VEVENT
END:VCALENDAR
