BEGIN:VCALENDAR
VERSION:2.0
CALSCALE:GREGORIAN
METHOD:PUBLISH
PRODID://WGCC//1411317
BEGIN:VEVENT
DTSTAMP:20260420T150117
VTIMEZONE:America/Denver
DTSTART:20260227T003000Z
DTEND:20260227T020000Z
UID:1411317
SUMMARY:Business After Hours with Wild Roots Boutique
LOCATION:Wild Roots Boutique, 702 Main Street, Silt, CO, 81652
DESCRIPTION:Business After Hours with Wild Roots Boutique\n\n02/26/26 05:30 PM MST\n - 02/26/26 07:00 PM MST\Location:\nWild Roots Boutique\n702 Main Street\nSilt, CO 81652
X-ALT-DESC;FMTTYPE=text/html:Business After Hours with Wild Roots Boutique<br /><br />02/26/26 05:30 PM MST - 02/26/26 07:00 PM MST<br />Location:<br />Wild Roots Boutique<br />702 Main Street<br />Silt, CO 81652
PRIORITY:3
TRANSP:TRANSPARENT
BEGIN:VALARM
TRIGGER:-PT5M
ACTION:DISPLAY
DESCRIPTION:Reminder
END:VALARM
END:VEVENT
END:VCALENDAR
