BEGIN:VCALENDAR
VERSION:2.0
CALSCALE:GREGORIAN
METHOD:PUBLISH
PRODID://WGCC//1411339
BEGIN:VEVENT
DTSTAMP:20260420T150118
VTIMEZONE:America/Denver
DTSTART:20260222T020000Z
DTEND:20260222T040000Z
UID:1411339
SUMMARY:Karaoke "Sing for a Cause"
LOCATION:Rifle Moose Lodge #1345 , 133 E. 3rd Street, Rifle, CO, 81650
DESCRIPTION:Karaoke "Sing for a Cause"\n\n02/21/26 07:00 PM MST\n - 02/21/26 09:00 PM MST\Description:\nRifle Moose Lodge #1345 Presents Karaoke "Sing for a Cause". Admission: $10 per person includes one drink token. A portion of funds raised will go to the Epilepsy Foundation of Colorado & Wyoming. \Location:\nRifle Moose Lodge #1345 \n133 E. 3rd Street\nRifle, CO 81650
X-ALT-DESC;FMTTYPE=text/html:Karaoke "Sing for a Cause"<br /><br />02/21/26 07:00 PM MST - 02/21/26 09:00 PM MST<br />Description:<br />Rifle Moose Lodge #1345 Presents Karaoke &quot;Sing for a Cause&quot;. Admission: $10 per person includes one drink token. A portion of funds raised will go to the Epilepsy Foundation of Colorado &amp; Wyoming.&nbsp;<br />Location:<br />Rifle Moose Lodge #1345 <br />133 E. 3rd Street<br />Rifle, CO 81650
PRIORITY:3
TRANSP:TRANSPARENT
BEGIN:VALARM
TRIGGER:-PT5M
ACTION:DISPLAY
DESCRIPTION:Reminder
END:VALARM
END:VEVENT
END:VCALENDAR
