BEGIN:VCALENDAR
VERSION:2.0
CALSCALE:GREGORIAN
METHOD:PUBLISH
PRODID://WGCC//1412279
BEGIN:VEVENT
DTSTAMP:20260420T113555
VTIMEZONE:America/Denver
DTSTART:20260502T130000Z
DTEND:20260503T030000Z
UID:1412279
SUMMARY:MayFest
LOCATION:Cottonwood Park, 100 La Plata Circle, Parachute, CO, 81635
DESCRIPTION:MayFest\n\n05/02/26 07:00 AM MST\n - 05/02/26 09:00 PM MST\Description:\nWe are excited to invite you  to the 2nd Annual Mayfest, a youth-led community event organized by the G16 Family Resource Center with help from the Town of Parachute, the Aspen Community Foundation, the JDMCL Foundation, and other sponsors. \n\nThe event is designed to bring youth, their families, and community organizations together to learn about local resources, career opportunities, and internships, all while enjoying a day of fun activities such as a 5k Run (benefiting Suicide Prevention Coalition of Garfield County), Bike Derby, Battle of the Bands, Show and Shine (car show), and much more.\Details:\n\n\n	\n	8AM-9AM 5K - Race benefiting the Suicide Prevention Coalition of Garfield County-\n	\n	\n	9AM Pancake Breakfast benefiting PEO\n	\n	\n	10:00 AM - Vendors open for business\n	\n	\n	10AM-1PM Bike Derby & Show and Shine Car Show\n	\n	\n	12 PM- Food vendors open for business\n	\n	\n	12PM-3PM Carnival\n	\n	\n	3PM-8PM Battle of the Bands\n	\n\n\Location:\nCottonwood Park\n100 La Plata Circle\nParachute, CO 81635
X-ALT-DESC;FMTTYPE=text/html:MayFest<br /><br />05/02/26 07:00 AM MST - 05/02/26 09:00 PM MST<br />Description:<br /><font color="#000000">We are excited to invite you&nbsp; to the 2nd Annual&nbsp;Mayfest, a youth-led community event organized by the G16 Family Resource Center with help from the Town of Parachute, the Aspen Community Foundation, the JDMCL Foundation, and other sponsors.&nbsp;</font><br />
<br />
<font color="#000000">The event is designed to bring youth, their families, and community organizations together to learn about local resources, career opportunities, and internships, all while enjoying a day of fun activities such as a 5k Run (benefiting Suicide Prevention Coalition&nbsp;of Garfield County), Bike Derby, Battle&nbsp;of the&nbsp;Bands, Show and Shine (car show), and much</font><font color="#500050">&nbsp;</font><font color="#000000">more.</font><br />Details:<br /><meta charset="utf-8" />
<ul>
	<li aria-level="1" dir="ltr">
	<p dir="ltr" role="presentation"><strong id="docs-internal-guid-d362142e-7fff-3953-66d2-50fa9aa78f9b">8AM-9AM 5K - Race benefiting the Suicide Prevention Coalition of Garfield County-</strong></p>
	</li>
	<li aria-level="1" dir="ltr">
	<p dir="ltr" role="presentation"><strong id="docs-internal-guid-d362142e-7fff-3953-66d2-50fa9aa78f9b">9AM Pancake Breakfast benefiting PEO</strong></p>
	</li>
	<li aria-level="1" dir="ltr">
	<p dir="ltr" role="presentation"><strong id="docs-internal-guid-d362142e-7fff-3953-66d2-50fa9aa78f9b">10:00 AM - Vendors open for business</strong></p>
	</li>
	<li aria-level="1" dir="ltr">
	<p dir="ltr" role="presentation"><strong id="docs-internal-guid-d362142e-7fff-3953-66d2-50fa9aa78f9b">10AM-1PM Bike Derby &amp; Show and Shine Car Show</strong></p>
	</li>
	<li aria-level="1" dir="ltr">
	<p dir="ltr" role="presentation"><strong id="docs-internal-guid-d362142e-7fff-3953-66d2-50fa9aa78f9b">12 PM- Food vendors open for business</strong></p>
	</li>
	<li aria-level="1" dir="ltr">
	<p dir="ltr" role="presentation"><strong id="docs-internal-guid-d362142e-7fff-3953-66d2-50fa9aa78f9b">12PM-3PM Carnival</strong></p>
	</li>
	<li aria-level="1" dir="ltr">
	<p dir="ltr" role="presentation"><strong id="docs-internal-guid-d362142e-7fff-3953-66d2-50fa9aa78f9b">3PM-8PM Battle of the Bands</strong></p>
	</li>
</ul>
<br />Location:<br />Cottonwood Park<br />100 La Plata Circle<br />Parachute, CO 81635
PRIORITY:3
TRANSP:TRANSPARENT
BEGIN:VALARM
TRIGGER:-PT5M
ACTION:DISPLAY
DESCRIPTION:Reminder
END:VALARM
END:VEVENT
END:VCALENDAR
