BEGIN:VCALENDAR
VERSION:2.0
CALSCALE:GREGORIAN
METHOD:PUBLISH
PRODID://WGCC//1412613
BEGIN:VEVENT
DTSTAMP:20260420T131826
VTIMEZONE:America/Denver
DTSTART:20260318T010000Z
DTEND:20260318T023000Z
UID:1412613
SUMMARY:Women's Climbing Clinic
LOCATION:Rifle Climbing Center, 139 W. 3rd St., Rifle, CO, 81650
DESCRIPTION:Women's Climbing Clinic\n\n03/17/26 07:00 PM MST\n - 03/17/26 08:30 PM MST\Description:\nThis clinic will focus on the natural strengths women have to maximize movement skills and climbing ability. Our instructor, Karissa Dunbar, brings 20+ years experience to create a supportive environment that empowers women to climb with strategy, intent, and enjoyment. Participants will meet new climbing partners, learn the basics of setting and achieving climbing goals, practice new techniques, and most of all, have fun!\n\nBenefits:\n\n	Climb with other women and enjoy a ladies night!\n	Develop climbing technique in a supportive and empowering environment.\n	Learn to climb with intent and power, trust your body, and reduce fear. \n	Gain skills specific to your experience level and climbing goals from a knowledgeable and experienced female climber.\n	Set a path to achieve your own climbing goals while having fun! \n\n\n\nCost:\n$76 for members\n$95 for non-members  \n \n2 sessions of 90 minutes each\n \nInstructor Bio:\nKarissa Dunbar has been climbing since 2002. She primarily sport climbs and boulders, and has done so around the world, climbing in many world class destinations such as the Red River Gorge, Wild Iris, Maple Canyon, Hueco Tanks, New River Gorge, Rifle, and more. She loves to project routes, has an uncurable addiction to bouldering, and has placed gear once or twice. Karissa was formerly a climbing instructor and coach in Oregon, Washington, and New Mexico.  She and her husband own Rifle Climbing Center.\Details:\nDetails:\nMarch 17th and 19th, 7-8:30pm\n\nCost:\n$76 for members\n$95 for non-members  \n \n2 sessions of 90 minutes each \Location:\nRifle Climbing Center\n139 W. 3rd St.\nRifle, CO 81650
X-ALT-DESC;FMTTYPE=text/html:Women's Climbing Clinic<br /><br />03/17/26 07:00 PM MST - 03/17/26 08:30 PM MST<br />Description:<br /><span class="kma42e" jsname="bN97Pc" jsslot=""><span jsaction="rcuQ6b:g0mjXe" jscontroller="BlntMb">This clinic will focus on the natural strengths women have to maximize movement skills and climbing ability. Our instructor, Karissa Dunbar, brings 20+ years experience to create a supportive environment that empowers women to climb with strategy, intent, and enjoyment. Participants will meet new climbing partners, learn the basics of setting and achieving climbing goals, practice new techniques, and most of all, have fun!<br />
<br />
<strong>Benefits:</strong></span></span>
<ul>
	<li><span class="kma42e" jsname="bN97Pc" jsslot=""><span jsaction="rcuQ6b:g0mjXe" jscontroller="BlntMb">Climb with other women and enjoy a ladies night!</span></span></li>
	<li><span class="kma42e" jsname="bN97Pc" jsslot=""><span jsaction="rcuQ6b:g0mjXe" jscontroller="BlntMb">Develop climbing technique in a supportive and empowering environment.</span></span></li>
	<li><span class="kma42e" jsname="bN97Pc" jsslot=""><span jsaction="rcuQ6b:g0mjXe" jscontroller="BlntMb">Learn to climb with intent and power, trust your body, and reduce fear.&nbsp;</span></span></li>
	<li><span class="kma42e" jsname="bN97Pc" jsslot=""><span jsaction="rcuQ6b:g0mjXe" jscontroller="BlntMb">Gain skills specific to your experience level and climbing goals from a knowledgeable and experienced female climber.</span></span></li>
	<li><span class="kma42e" jsname="bN97Pc" jsslot=""><span jsaction="rcuQ6b:g0mjXe" jscontroller="BlntMb">Set a path to achieve your own climbing goals while having fun!&nbsp;</span></span></li>
</ul>
<br />
<br />
<span class="kma42e" jsname="bN97Pc" jsslot=""><span jsaction="rcuQ6b:g0mjXe" jscontroller="BlntMb"><strong>Cost:</strong><br />
$76 for members<br />
$95 for non-members<strong>&nbsp;&nbsp;</strong><br />
<strong>&nbsp;</strong><br />
2 sessions of 90 minutes each<br />
<strong>&nbsp;</strong><br />
<strong>Instructor Bio:</strong><br />
Karissa Dunbar has been climbing since 2002. She primarily sport climbs and boulders, and has done so around the world, climbing in many world class destinations such as the Red River Gorge, Wild Iris, Maple Canyon, Hueco Tanks, New River Gorge, Rifle, and more. She loves to project routes, has an uncurable addiction to bouldering, and has placed gear once or twice. Karissa was formerly a climbing instructor and coach in Oregon, Washington, and New Mexico. &nbsp;She and her husband own Rifle Climbing Center.</span></span><br />Details:<br /><span class="kma42e" jsname="bN97Pc" jsslot=""><span jsaction="rcuQ6b:g0mjXe" jscontroller="BlntMb"><strong>Details:</strong></span></span><br />
March 17th and 19th, 7-8:30pm<br />
<br />
<span class="kma42e" jsname="bN97Pc" jsslot=""><span jsaction="rcuQ6b:g0mjXe" jscontroller="BlntMb"><strong>Cost:</strong><br />
$76 for members<br />
$95 for non-members<strong>&nbsp;&nbsp;</strong><br />
<strong>&nbsp;</strong><br />
2 sessions of 90 minutes eac<strong>h&nbsp;</strong></span></span><br />Location:<br />Rifle Climbing Center<br />139 W. 3rd St.<br />Rifle, CO 81650
PRIORITY:3
TRANSP:TRANSPARENT
BEGIN:VALARM
TRIGGER:-PT5M
ACTION:DISPLAY
DESCRIPTION:Reminder
END:VALARM
END:VEVENT
END:VCALENDAR
