BEGIN:VCALENDAR
VERSION:2.0
CALSCALE:GREGORIAN
METHOD:PUBLISH
PRODID://WGCC//1412783
BEGIN:VEVENT
DTSTAMP:20260420T151333
VTIMEZONE:America/Denver
DTSTART:20260226T010000Z
DTEND:20260226T020000Z
UID:1412783
SUMMARY:Valley View University - Stabilizing Your Knees: Find the Balance
LOCATION:https://vvh.zoom.us/webinar/register/7617688408722/WN_Qyqy1mnkTY2I-MNhDgjwCA, CO
DESCRIPTION:Valley View University - Stabilizing Your Knees: Find the Balance\n\n02/25/26 06:00 PM MST\n - 02/25/26 07:00 PM MST\Description:\nJoin us for a virtual discussion featuring expert tips and live demonstrations on how improving balance and stability can support long-term knee health. This 30-minute webinar, followed by open Q&A, will be led by ValleyOrtho’s Orthopedic Surgeon and Sports Medicine Specialist Tomas Pevny, MD and Valley View’s Outpatient Rehabilitation Therapist Jessica McElroy, PT, DPT.\Details:\nThere is no cost to attend this class.\Location:\nhttps://vvh.zoom.us/webinar/register/7617688408722/WN_Qyqy1mnkTY2I-MNhDgjwCA\n\n, CO
X-ALT-DESC;FMTTYPE=text/html:Valley View University - Stabilizing Your Knees: Find the Balance<br /><br />02/25/26 06:00 PM MST - 02/25/26 07:00 PM MST<br />Description:<br />Join us for a virtual discussion featuring expert tips and live demonstrations on how improving balance and stability can support long-term knee health. This 30-minute webinar, followed by open Q&amp;A, will be led by ValleyOrtho&rsquo;s Orthopedic Surgeon and Sports Medicine Specialist Tomas Pevny, MD and Valley View&rsquo;s Outpatient Rehabilitation Therapist Jessica McElroy, PT, DPT.<br />Details:<br />There is no cost to attend this class.<br />Location:<br />https://vvh.zoom.us/webinar/register/7617688408722/WN_Qyqy1mnkTY2I-MNhDgjwCA<br /><br />, CO 
PRIORITY:3
TRANSP:TRANSPARENT
BEGIN:VALARM
TRIGGER:-PT5M
ACTION:DISPLAY
DESCRIPTION:Reminder
END:VALARM
END:VEVENT
END:VCALENDAR
