BEGIN:VCALENDAR
VERSION:2.0
CALSCALE:GREGORIAN
METHOD:PUBLISH
PRODID://WGCC//1414093
BEGIN:VEVENT
DTSTAMP:20260420T131714
VTIMEZONE:America/Denver
DTSTART:20260311T180000Z
DTEND:20260311T190000Z
UID:1414093
SUMMARY:Ribbon Cutting/New Ownership for Mountain Air Mechanical
LOCATION:Mountain Air Mechanical, 601 W 2nd. St. Bldg 2, Rifle, CO, 81650
DESCRIPTION:Ribbon Cutting/New Ownership for Mountain Air Mechanical\n\n03/11/26 12:00 PM MST\n - 03/11/26 01:00 PM MST\Description:\nNew ownership, new beginnings. Join us at Mountain Air Mechanical for a Ribbon Cutting Celebration. \Location:\nMountain Air Mechanical\n601 W 2nd. St. Bldg 2\nRifle, CO 81650
X-ALT-DESC;FMTTYPE=text/html:Ribbon Cutting/New Ownership for Mountain Air Mechanical<br /><br />03/11/26 12:00 PM MST - 03/11/26 01:00 PM MST<br />Description:<br />New ownership, new beginnings. Join us at&nbsp;Mountain Air Mechanical for a Ribbon Cutting Celebration.&nbsp;<br />Location:<br />Mountain Air Mechanical<br />601 W 2nd. St. Bldg 2<br />Rifle, CO 81650
PRIORITY:3
TRANSP:TRANSPARENT
BEGIN:VALARM
TRIGGER:-PT5M
ACTION:DISPLAY
DESCRIPTION:Reminder
END:VALARM
END:VEVENT
END:VCALENDAR
