BEGIN:VCALENDAR
VERSION:2.0
CALSCALE:GREGORIAN
METHOD:PUBLISH
PRODID://WGCC//1414362
BEGIN:VEVENT
DTSTAMP:20260420T131826
VTIMEZONE:America/Denver
DTSTART:20260308T210000Z
DTEND:20260308T230000Z
UID:1414362
SUMMARY:Western Sloper Climbing Guidebook Book Signing
LOCATION:Rifle Climbing Center, 139 W. 3rd St., Rifle, CO, 81647
DESCRIPTION:Western Sloper Climbing Guidebook Book Signing\n\n03/08/26 03:00 PM MST\n - 03/08/26 05:00 PM MST\Description:\nðŸ“šâœ¨ WESTERN SLOPER BOOK SIGNING âœ¨ðŸ“š\n\nWe’re celebrating ONE YEAR of RCC -- and this special event is part of our 1st Anniversary Weekend Celebration! ðŸŽ‰\n\nJoin us for a Western Sloper guidebook signing and connect with local climbing storytelling, community history, and the people who make the Western Slope climbing scene what it is.\n\nAll books purchased during the signing are 10% off!\n\nSunday, March 8 from 3-5pm\n\nThis event is just one of many happening throughout our anniversary weekend. Check out the full schedule of events here:\nðŸ‘‰ https://mailchi.mp/50461f2deb75/1stanniversary\n\nCome hang out, get your book signed, meet fellow climbers, and celebrate a full year of community at RCC. Whether you’re a longtime local or new to the scene, this is a perfect chance to plug in and be part of the story.\n\nLet’s celebrate one year of climbing together! ðŸ’š\n\n#RifleClimbingCenter #RCCAnniversary #WesternSlopeClimbing #ClimbingCommunity #WesternSloper\Details:\nCheck here for more details and the full anniversary event schedule (https://mailchi.mp/50461f2deb75/1stanniversary)!\Location:\nRifle Climbing Center\n139 W. 3rd St.\nRifle, CO 81647
X-ALT-DESC;FMTTYPE=text/html:Western Sloper Climbing Guidebook Book Signing<br /><br />03/08/26 03:00 PM MST - 03/08/26 05:00 PM MST<br />Description:<br />ðŸ“šâœ¨ WESTERN SLOPER BOOK SIGNING âœ¨ðŸ“š<br />
<br />
We&rsquo;re celebrating ONE YEAR of RCC -- and this special event is part of our 1st Anniversary Weekend Celebration! ðŸŽ‰<br />
<br />
Join us for a Western Sloper guidebook signing and connect with local climbing storytelling, community history, and the people who make the Western Slope climbing scene what it is.<br />
<br />
All books purchased during the signing are 10% off!<br />
<br />
Sunday, March 8 from 3-5pm<br />
<br />
This event is just one of many happening throughout our anniversary weekend. Check out the full schedule of events here:<br />
ðŸ‘‰ https://mailchi.mp/50461f2deb75/1stanniversary<br />
<br />
Come hang out, get your book signed, meet fellow climbers, and celebrate a full year of community at RCC. Whether you&rsquo;re a longtime local or new to the scene, this is a perfect chance to plug in and be part of the story.<br />
<br />
Let&rsquo;s celebrate one year of climbing together! ðŸ’š<br />
<br />
#RifleClimbingCenter #RCCAnniversary #WesternSlopeClimbing #ClimbingCommunity #WesternSloper<br />Details:<br />Check here for more details and the full anniversary event schedule (https://mailchi.mp/50461f2deb75/1stanniversary)!<br />Location:<br />Rifle Climbing Center<br />139 W. 3rd St.<br />Rifle, CO 81647
PRIORITY:3
TRANSP:TRANSPARENT
BEGIN:VALARM
TRIGGER:-PT5M
ACTION:DISPLAY
DESCRIPTION:Reminder
END:VALARM
END:VEVENT
END:VCALENDAR
