BEGIN:VCALENDAR
VERSION:2.0
CALSCALE:GREGORIAN
METHOD:PUBLISH
PRODID://WGCC//1414363
BEGIN:VEVENT
DTSTAMP:20260420T151429
VTIMEZONE:America/Denver
DTSTART:20260227T010000Z
DTEND:20260227T033000Z
UID:1414363
SUMMARY:How Water Made the West
LOCATION:Hotel Colorado, 526 Pine Street, Glenwood Springs, CO, 81601
DESCRIPTION:How Water Made the West\n\n02/26/26 06:00 PM MST\n - 02/26/26 08:30 PM MST\Description:\n \nAuthor Talk & Book Signing | February 26, 6 p.m. • Hotel Colorado, Glenwood Springs\n\n \n\Details:\nJoin award-winning author and hydrologist Robert Crifasi for an engaging, story-driven evening exploring the people, politics and power of Western water. Enjoy a lively presentation,\naudience Q&A, and book signing of Western Water A–Z in the iconic Hotel Colorado, with beverages and appetizers served. Event admission is by donation and books will be available for purchase. Space is limited. Advance RSVP required.\Location:\nHotel Colorado\n526 Pine Street\nGlenwood Springs, CO 81601
X-ALT-DESC;FMTTYPE=text/html:How Water Made the West<br /><br />02/26/26 06:00 PM MST - 02/26/26 08:30 PM MST<br />Description:<br />&nbsp;
<p><strong>Author Talk &amp; Book Signing | February 26, 6 p.m. &bull; Hotel Colorado, Glenwood Springs</strong></p>

<p>&nbsp;</p>
<br />Details:<br />Join award-winning author and hydrologist Robert Crifasi for an engaging, story-driven evening exploring the people, politics and power of Western water. Enjoy a lively presentation,<br />
audience Q&amp;A, and book signing of <em>Western Water A&ndash;Z</em> in the iconic Hotel Colorado, with beverages and appetizers served. Event admission is by donation and books will be available for purchase. Space is limited. <a href="https://aftontickets.com/event/buyticket/1qjwvp5y97">Advance RSVP required.</a><br />Location:<br />Hotel Colorado<br />526 Pine Street<br />Glenwood Springs, CO 81601
PRIORITY:3
TRANSP:TRANSPARENT
BEGIN:VALARM
TRIGGER:-PT5M
ACTION:DISPLAY
DESCRIPTION:Reminder
END:VALARM
END:VEVENT
END:VCALENDAR
