BEGIN:VCALENDAR
VERSION:2.0
CALSCALE:GREGORIAN
METHOD:PUBLISH
PRODID://WGCC//1414368
BEGIN:VEVENT
DTSTAMP:20260420T133156
VTIMEZONE:America/Denver
DTSTART:20260306T160000Z
DTEND:20260309T030000Z
UID:1414368
SUMMARY:Rifle Climbing Center 1 Year Anniversary Celebration!
LOCATION:Rifle Climbing Center, 139 W. 3rd St., Rifle, CO, 81647
DESCRIPTION:Rifle Climbing Center 1 Year Anniversary Celebration!\n\n03/06/26 09:00 AM MST\n - 03/08/26 09:00 PM MST\Description:\nðŸŽ‰ WE'RE TURNING ONE! ðŸŽ‰\n\nJoin us as we celebrate Rifle Climbing Center’s 1st Anniversary Party - our biggest party of the year! ðŸ§—‍â™‚ï¸ðŸ¥³\n\nðŸ“… March 6–8, 2026\nðŸ“ 139 W. 3rd St., Rifle, CO\n\nWe’ve got a full weekend of fun lined up:\nâœ¨ Climbing comp and theme nights\nðŸŽŸï¸ Raffles & prizes\nðŸŽ Giveaways\nðŸ¤ Demos\n…Check here for more details and the event schedule (https://mailchi.mp/50461f2deb75/1stanniversary)!\n\nðŸ”¥ BONUS:\nEnjoy 50% OFF Day Passes all day Saturday (3/7)! Perfect time to bring a friend and celebrate with us on the wall.\nSave the date, grab your crew, and come celebrate an incredible first year of climbing, community, and growth at RCC. We couldn’t have done it without you! ðŸ’›\Details:\nCheck here for more details and the event schedule (https://mailchi.mp/50461f2deb75/1stanniversary)!\Location:\nRifle Climbing Center\n139 W. 3rd St.\nRifle, CO 81647
X-ALT-DESC;FMTTYPE=text/html:Rifle Climbing Center 1 Year Anniversary Celebration!<br /><br />03/06/26 09:00 AM MST - 03/08/26 09:00 PM MST<br />Description:<br />ðŸŽ‰ WE'RE TURNING ONE! ðŸŽ‰<br />
<br />
Join us as we celebrate Rifle Climbing Center&rsquo;s 1st Anniversary Party - our biggest party of the year! ðŸ§—&zwj;â™‚ï¸ðŸ¥³<br />
<br />
ðŸ“… March 6&ndash;8, 2026<br />
ðŸ“ 139 W. 3rd St., Rifle, CO<br />
<br />
We&rsquo;ve got a full weekend of fun lined up:<br />
âœ¨ Climbing comp and theme nights<br />
ðŸŽŸï¸ Raffles &amp; prizes<br />
ðŸŽ Giveaways<br />
ðŸ¤ Demos<br />
&hellip;Check here for more details and the event schedule (https://mailchi.mp/50461f2deb75/1stanniversary)!<br />
<br />
ðŸ”¥ BONUS:<br />
Enjoy 50% OFF Day Passes all day Saturday (3/7)! Perfect time to bring a friend and celebrate with us on the wall.<br />
Save the date, grab your crew, and come celebrate an incredible first year of climbing, community, and growth at RCC. We couldn&rsquo;t have done it without you! ðŸ’›<br />Details:<br />Check here for more details and the event schedule (https://mailchi.mp/50461f2deb75/1stanniversary)!<br />Location:<br />Rifle Climbing Center<br />139 W. 3rd St.<br />Rifle, CO 81647
PRIORITY:3
TRANSP:TRANSPARENT
BEGIN:VALARM
TRIGGER:-PT5M
ACTION:DISPLAY
DESCRIPTION:Reminder
END:VALARM
END:VEVENT
END:VCALENDAR
