BEGIN:VCALENDAR
VERSION:2.0
CALSCALE:GREGORIAN
METHOD:PUBLISH
PRODID://WGCC//1414369
BEGIN:VEVENT
DTSTAMP:20260420T133306
VTIMEZONE:America/Denver
DTSTART:20260306T190000Z
DTEND:20260327T200000Z
UID:1414369
SUMMARY:March - Friday Climbing Club
LOCATION:Rifle Climbing Center, 139 W. 3rd St., Rifle, CO, 81647
DESCRIPTION:March - Friday Climbing Club\n\n03/06/26 12:00 PM MST\n - 03/27/26 02:00 PM MST\Description:\nFriday Climbing Club is back! ðŸŽ‰\n\nLooking for a fun, active Friday drop-off for your kiddo? Bring them to Rifle Climbing Center for our Friday Climbing Club, running every Friday from March 6–27, 12–2 PM.\n\nThis is a drop-off program where kids will:\n\nlearn bouldering safety tips âœ…, build confidence and coordination through basic movement skills ðŸ§ ðŸ’ª, play climbing games, make new friends ðŸŽˆ, and have a blast while staying active!\n\nPricing:\n\n$75 non-members\n\n$65 members\n\nðŸ“ Rifle Climbing Center - 139 W. 3rd St., Rifle, CO 81647\nMore info: rifleclimbingcenter.com\n\nSpots can fill up—grab yours and make Fridays the best day of the week! ðŸ™ŒðŸ§—‍â™€ï¸\Details:\nCost listed is for monthly attendance (4 sessions).  Prorated individual sessions also available.\Location:\nRifle Climbing Center\n139 W. 3rd St.\nRifle, CO 81647
X-ALT-DESC;FMTTYPE=text/html:March - Friday Climbing Club<br /><br />03/06/26 12:00 PM MST - 03/27/26 02:00 PM MST<br />Description:<br />Friday Climbing Club is back! ðŸŽ‰<br />
<br />
Looking for a fun, active Friday drop-off for your kiddo? Bring them to Rifle Climbing Center for our Friday Climbing Club, running every Friday from March 6&ndash;27, 12&ndash;2 PM.<br />
<br />
This is a drop-off program where kids will:<br />
<br />
learn bouldering safety tips âœ…, build confidence and coordination through basic movement skills ðŸ§ ðŸ’ª, play climbing games, make new friends ðŸŽˆ, and have a blast while staying active!<br />
<br />
Pricing:<br />
<br />
$75 non-members<br />
<br />
$65 members<br />
<br />
ðŸ“ Rifle Climbing Center - 139 W. 3rd St., Rifle, CO 81647<br />
More info: rifleclimbingcenter.com<br />
<br />
Spots can fill up&mdash;grab yours and make Fridays the best day of the week! ðŸ™ŒðŸ§—&zwj;â™€ï¸<br />Details:<br />Cost listed is for monthly attendance (4 sessions).&nbsp; Prorated individual sessions also available.<br />Location:<br />Rifle Climbing Center<br />139 W. 3rd St.<br />Rifle, CO 81647
PRIORITY:3
TRANSP:TRANSPARENT
BEGIN:VALARM
TRIGGER:-PT5M
ACTION:DISPLAY
DESCRIPTION:Reminder
END:VALARM
END:VEVENT
END:VCALENDAR
