BEGIN:VCALENDAR
VERSION:2.0
CALSCALE:GREGORIAN
METHOD:PUBLISH
PRODID://WGCC//1414372
BEGIN:VEVENT
DTSTAMP:20260420T173851
VTIMEZONE:America/Denver
DTSTART:20260307T000000Z
DTEND:20260307T020000Z
UID:1414372
SUMMARY:1st Anniversary Climbing Competition!
LOCATION:Rifle Climbing Center, 139 W. 3rd St., Rifle, CO, 81647
DESCRIPTION:1st Anniversary Climbing Competition!\n\n03/06/26 05:00 PM MST\n - 03/06/26 07:00 PM MST\Description:\nðŸ”¥ RCC BOARD CLIMBING COMP ðŸ”¥\n\nIt’s time to throw down on the boards — and celebrate ONE YEAR of RCC! ðŸŽ‰\n\nThis competition is part of our 1st Anniversary Weekend Celebration, packed with events, climbing, and community all weekend long. Check out the full schedule here:\nðŸ‘‰ https://mailchi.mp/50461f2deb75/1stanniversary\n\nJoin us March 6 for a high-energy indoor board climbing competition. Whether you’re projecting V6+ or just breaking into the sport, there’s a category for you — and plenty of community stoke to go around.\n\nðŸ† Categories:\n• Youth (Under 14)\n• Beginner (Up to V2)\n• Intermediate (Up to V5)\n• Advanced (V6 and up)\n\nðŸ’¥ Free with membership or day pass\nðŸ‘€ Spectators are FREE\nðŸŽ Prizes for winners in every category!\n\nðŸª© And from 6–9 PM that same evening… we turn down the lights and turn up the music for our Disco Themed Climbing Night! Climb under disco lights, vibe to the music, and celebrate RCC style.\n\nCome compete. Stay to party. Help us celebrate one incredible year of climbing community.\n\nTag your crew, start planning your beta, and let’s make this anniversary weekend one to remember.\Details:\nCheck here for more details and the full anniversary event schedule (https://mailchi.mp/50461f2deb75/1stanniversary)!\Location:\nRifle Climbing Center\n139 W. 3rd St.\nRifle, CO 81647
X-ALT-DESC;FMTTYPE=text/html:1st Anniversary Climbing Competition!<br /><br />03/06/26 05:00 PM MST - 03/06/26 07:00 PM MST<br />Description:<br />ðŸ”¥ RCC BOARD CLIMBING COMP ðŸ”¥<br />
<br />
It&rsquo;s time to throw down on the boards &mdash; and celebrate ONE YEAR of RCC! ðŸŽ‰<br />
<br />
This competition is part of our 1st Anniversary Weekend Celebration, packed with events, climbing, and community all weekend long. Check out the full schedule here:<br />
ðŸ‘‰ https://mailchi.mp/50461f2deb75/1stanniversary<br />
<br />
Join us March 6 for a high-energy indoor board climbing competition. Whether you&rsquo;re projecting V6+ or just breaking into the sport, there&rsquo;s a category for you &mdash; and plenty of community stoke to go around.<br />
<br />
ðŸ† Categories:<br />
&bull; Youth (Under 14)<br />
&bull; Beginner (Up to V2)<br />
&bull; Intermediate (Up to V5)<br />
&bull; Advanced (V6 and up)<br />
<br />
ðŸ’¥ Free with membership or day pass<br />
ðŸ‘€ Spectators are FREE<br />
ðŸŽ Prizes for winners in every category!<br />
<br />
ðŸª© And from 6&ndash;9 PM that same evening&hellip; we turn down the lights and turn up the music for our Disco Themed Climbing Night! Climb under disco lights, vibe to the music, and celebrate RCC style.<br />
<br />
Come compete. Stay to party. Help us celebrate one incredible year of climbing community.<br />
<br />
Tag your crew, start planning your beta, and let&rsquo;s make this anniversary weekend one to remember.<br />Details:<br />Check here for more details and the full anniversary event schedule (https://mailchi.mp/50461f2deb75/1stanniversary)!<br />Location:<br />Rifle Climbing Center<br />139 W. 3rd St.<br />Rifle, CO 81647
PRIORITY:3
TRANSP:TRANSPARENT
BEGIN:VALARM
TRIGGER:-PT5M
ACTION:DISPLAY
DESCRIPTION:Reminder
END:VALARM
END:VEVENT
END:VCALENDAR
