BEGIN:VCALENDAR
VERSION:2.0
CALSCALE:GREGORIAN
METHOD:PUBLISH
PRODID://WGCC//1414373
BEGIN:VEVENT
DTSTAMP:20260420T131826
VTIMEZONE:America/Denver
DTSTART:20260307T010000Z
DTEND:20260307T040000Z
UID:1414373
SUMMARY:Disco, Disco, Eh? A Disco Themed Climbing Night with Live DJ!
LOCATION:Rifle Climbing Center, 139 W. 3rd St., Rifle, CO, 81647
DESCRIPTION:Disco, Disco, Eh? A Disco Themed Climbing Night with Live DJ!\n\n03/06/26 06:00 PM MST\n - 03/06/26 09:00 PM MST\Description:\nðŸª© DISCO, DISCO… EH?! ðŸ§—‍â™€ï¸âœ¨\n\nWe’re turning the lights down and the stoke up for a Disco Themed Climbing Night you do NOT want to miss, in celebration of our 1 Year Anniversary!  (Check out all the events of the weekend here: https://mailchi.mp/50461f2deb75/1stanniversary)\n\nðŸ’¿ Live DJ\nðŸ’¡ Disco lights!\nðŸŽŸï¸ Buy 1 Get 1 FREE day passes\nðŸ“… March 6, 2025\nâ° 6–9 PM\n\nCostumes / disco wear encouraged!\n\nWhether you’re coming to send your project under the disco ball or just vibe with your crew and climb to the beat, this is your excuse to dust off the neon and party on the wall.\n\nTag your climbing partner, grab your BOGO buddy, and let’s light up the gym. ðŸ•ºðŸ”¥\Details:\nCheck here for more details and the full anniversary event schedule (https://mailchi.mp/50461f2deb75/1stanniversary)!\Location:\nRifle Climbing Center\n139 W. 3rd St.\nRifle, CO 81647
X-ALT-DESC;FMTTYPE=text/html:Disco, Disco, Eh? A Disco Themed Climbing Night with Live DJ!<br /><br />03/06/26 06:00 PM MST - 03/06/26 09:00 PM MST<br />Description:<br />ðŸª© DISCO, DISCO&hellip; EH?! ðŸ§—&zwj;â™€ï¸âœ¨<br />
<br />
We&rsquo;re turning the lights down and the stoke up for a Disco Themed Climbing Night you do NOT want to miss, in celebration of our 1 Year Anniversary!&nbsp; (Check out all the events of the weekend here: https://mailchi.mp/50461f2deb75/1stanniversary)<br />
<br />
ðŸ’¿ Live DJ<br />
ðŸ’¡ Disco lights!<br />
ðŸŽŸï¸ Buy 1 Get 1 FREE day passes<br />
ðŸ“… March 6, 2025<br />
â° 6&ndash;9 PM<br />
<br />
Costumes / disco wear encouraged!<br />
<br />
Whether you&rsquo;re coming to send your project under the disco ball or just vibe with your crew and climb to the beat, this is your excuse to dust off the neon and party on the wall.<br />
<br />
Tag your climbing partner, grab your BOGO buddy, and let&rsquo;s light up the gym. ðŸ•ºðŸ”¥<br />Details:<br />Check here for more details and the full anniversary event schedule (https://mailchi.mp/50461f2deb75/1stanniversary)!<br />Location:<br />Rifle Climbing Center<br />139 W. 3rd St.<br />Rifle, CO 81647
PRIORITY:3
TRANSP:TRANSPARENT
BEGIN:VALARM
TRIGGER:-PT5M
ACTION:DISPLAY
DESCRIPTION:Reminder
END:VALARM
END:VEVENT
END:VCALENDAR
