BEGIN:VCALENDAR
VERSION:2.0
CALSCALE:GREGORIAN
METHOD:PUBLISH
PRODID://WGCC//1414374
BEGIN:VEVENT
DTSTAMP:20260420T131749
VTIMEZONE:America/Denver
DTSTART:20260308T000000Z
DTEND:20260308T020000Z
UID:1414374
SUMMARY:FREE! Physivantage Product Demo / Tasting
LOCATION:Rifle Climbing Center, 139 W. 3rd St., Rifle, CO, 81647
DESCRIPTION:FREE! Physivantage Product Demo / Tasting\n\n03/07/26 05:00 PM MST\n - 03/07/26 07:00 PM MST\Description:\nðŸ’ª FREE PHYSIVANTAGE PRODUCT TASTING ðŸ’ª\n\nFuel your sends. Speed up your recovery. Try it for FREE.\n\nAs part of our 1st Anniversary Weekend Celebration, we’re hosting two FREE Physivantage product tastings - open to the public! Come sample climbing-focused supplements designed to support performance, endurance, and recovery.\n\nðŸ“… Thursday, March 5 | 5–7 PM\nOR\nðŸ“… Saturday, March 7 | 5–7 PM\n\nðŸ“ Rifle Climbing Center\nðŸ’¥ Free to attend\n\nWhether you’re training hard on the boards, projecting your next grade, or just want to recover smarter between sessions, this is a great chance to taste, learn, and ask questions about products built specifically for climbers.\n\nThis tasting is just one of many events happening during our 1st Anniversary celebration weekend. ðŸŽ‰\n\nSee the full weekend lineup here:\nðŸ‘‰ https://mailchi.mp/50461f2deb75/1stanniversary\n\nStop by, try something new, and celebrate one year of RCC with us!\n\nCheck out Physivantage at: https://www.physivantage.com/\Details:\nCheck here for more details and the full anniversary event schedule (https://mailchi.mp/50461f2deb75/1stanniversary)!\Location:\nRifle Climbing Center\n139 W. 3rd St.\nRifle, CO 81647
X-ALT-DESC;FMTTYPE=text/html:FREE! Physivantage Product Demo / Tasting<br /><br />03/07/26 05:00 PM MST - 03/07/26 07:00 PM MST<br />Description:<br />ðŸ’ª FREE PHYSIVANTAGE PRODUCT TASTING ðŸ’ª<br />
<br />
Fuel your sends. Speed up your recovery. Try it for FREE.<br />
<br />
As part of our 1st Anniversary Weekend Celebration, we&rsquo;re hosting two FREE Physivantage product tastings - open to the public! Come sample climbing-focused supplements designed to support performance, endurance, and recovery.<br />
<br />
ðŸ“… Thursday, March 5 | 5&ndash;7 PM<br />
OR<br />
ðŸ“… Saturday, March 7 | 5&ndash;7 PM<br />
<br />
ðŸ“ Rifle Climbing Center<br />
ðŸ’¥ Free to attend<br />
<br />
Whether you&rsquo;re training hard on the boards, projecting your next grade, or just want to recover smarter between sessions, this is a great chance to taste, learn, and ask questions about products built specifically for climbers.<br />
<br />
This tasting is just one of many events happening during our 1st Anniversary celebration weekend. ðŸŽ‰<br />
<br />
See the full weekend lineup here:<br />
ðŸ‘‰ https://mailchi.mp/50461f2deb75/1stanniversary<br />
<br />
Stop by, try something new, and celebrate one year of RCC with us!<br />
<br />
Check out Physivantage at: https://www.physivantage.com/<br />Details:<br />Check here for more details and the full anniversary event schedule (https://mailchi.mp/50461f2deb75/1stanniversary)!<br />Location:<br />Rifle Climbing Center<br />139 W. 3rd St.<br />Rifle, CO 81647
PRIORITY:3
TRANSP:TRANSPARENT
BEGIN:VALARM
TRIGGER:-PT5M
ACTION:DISPLAY
DESCRIPTION:Reminder
END:VALARM
END:VEVENT
END:VCALENDAR
