BEGIN:VCALENDAR
VERSION:2.0
CALSCALE:GREGORIAN
METHOD:PUBLISH
PRODID://WGCC//1414375
BEGIN:VEVENT
DTSTAMP:20260420T131749
VTIMEZONE:America/Denver
DTSTART:20260308T200000Z
DTEND:20260308T210000Z
UID:1414375
SUMMARY:FREE! Intro to Climbing Class
LOCATION:Rifle Climbing Center, 139 W. 3rd St., Rifle, CO, 81647
DESCRIPTION:FREE! Intro to Climbing Class\n\n03/08/26 02:00 PM MST\n - 03/08/26 03:00 PM MST\Description:\nðŸ§—‍â™€ï¸ FREE INTRO TO CLIMBING CLASS ðŸ§—‍â™‚ï¸\n\nAlways wanted to try climbing? This is your sign.\n\nJoin us Sunday, March 8 from 2–3 PM for a completely FREE Intro to Climbing Class -- no experience needed. Whether you’ve never touched a climbing hold or just want a refresher on the basics, this class is designed to help you feel confident, comfortable, and ready to climb. Ages 14 and up please!\n\nYou’ll learn:\n• Basic movement and technique\n• Gym etiquette & safety\n• How to fall properly\n• How to get started on your first climbs\n\nPlus, get a free buddy pass for your next visit, and an exclusive punch pass offer only for class participants!\n\nThis class is part of our 1st Anniversary Weekend Celebration, a full lineup of community events, competitions, and fun happening all weekend long. ðŸŽ‰\n\nCheck out the full anniversary schedule here:\nðŸ‘‰ https://mailchi.mp/50461f2deb75/1stanniversary\n\nSpots may fill quickly — tag a friend who’s been “meaning to try climbing” and bring them with you!  Call or message the gym to register.\n\nLet’s celebrate one year of climbing community by welcoming some new faces to the wall ðŸ’š\Details:\nCheck here for more details and the full anniversary event schedule (https://mailchi.mp/50461f2deb75/1stanniversary)!\Location:\nRifle Climbing Center\n139 W. 3rd St.\nRifle, CO 81647
X-ALT-DESC;FMTTYPE=text/html:FREE! Intro to Climbing Class<br /><br />03/08/26 02:00 PM MST - 03/08/26 03:00 PM MST<br />Description:<br />ðŸ§—&zwj;â™€ï¸ FREE INTRO TO CLIMBING CLASS ðŸ§—&zwj;â™‚ï¸<br />
<br />
Always wanted to try climbing? This is your sign.<br />
<br />
Join us Sunday, March 8 from 2&ndash;3 PM for a completely FREE Intro to Climbing Class -- no experience needed. Whether you&rsquo;ve never touched a climbing hold or just want a refresher on the basics, this class is designed to help you feel confident, comfortable, and ready to climb. Ages 14 and up please!<br />
<br />
You&rsquo;ll learn:<br />
&bull; Basic movement and technique<br />
&bull; Gym etiquette &amp; safety<br />
&bull; How to fall properly<br />
&bull; How to get started on your first climbs<br />
<br />
Plus, get a free buddy pass for your next visit, and an exclusive punch pass offer only for class participants!<br />
<br />
This class is part of our 1st Anniversary Weekend Celebration, a full lineup of community events, competitions, and fun happening all weekend long. ðŸŽ‰<br />
<br />
Check out the full anniversary schedule here:<br />
ðŸ‘‰ https://mailchi.mp/50461f2deb75/1stanniversary<br />
<br />
Spots may fill quickly &mdash; tag a friend who&rsquo;s been &ldquo;meaning to try climbing&rdquo; and bring them with you!&nbsp; Call or message the gym to register.<br />
<br />
Let&rsquo;s celebrate one year of climbing community by welcoming some new faces to the wall ðŸ’š<br />Details:<br />Check here for more details and the full anniversary event schedule (https://mailchi.mp/50461f2deb75/1stanniversary)!<br />Location:<br />Rifle Climbing Center<br />139 W. 3rd St.<br />Rifle, CO 81647
PRIORITY:3
TRANSP:TRANSPARENT
BEGIN:VALARM
TRIGGER:-PT5M
ACTION:DISPLAY
DESCRIPTION:Reminder
END:VALARM
END:VEVENT
END:VCALENDAR
