BEGIN:VCALENDAR
VERSION:2.0
CALSCALE:GREGORIAN
METHOD:PUBLISH
PRODID://WGCC//1415702
BEGIN:VEVENT
DTSTAMP:20260420T132916
VTIMEZONE:America/Denver
DTSTART:20260307T010000Z
DTEND:20260307T040000Z
UID:1415702
SUMMARY:The Man Who Saves The World? Movie Premiere 
LOCATION:Ute Theater, 132 E 4th St, Rifle, CO, 81650
DESCRIPTION:The Man Who Saves The World? Movie Premiere \n\n03/06/26 06:00 PM MST\n - 03/06/26 09:00 PM MST\Description:\nThis wild, funny, and deeply moving journey follows Patrick McCollum directed by filmmaker Gabe Polsky—an unlikely peace advocate drawn into an Indigenous prophecy that may determine the fate of the Amazon and our planet. Part comedy, part spiritual quest, the film invites audiences to laugh, reflect, and reconsider what responsibility to the Earth truly looks like.\nBacked by trailblazers in conservation and entertainment—including Jane Goodall, Peter Farrelly, Danny McBride, David Gordon Green, and Jody Hill—the documentary blends humor, heart, and urgency in a way that transcends categories. It was recently selected by The Hollywood Reporter as one of the Top 6 documentaries of the year.\n\Details:\n$15 General Admission\n\Location:\nUte Theater\n132 E 4th St\nRifle, CO 81650
X-ALT-DESC;FMTTYPE=text/html:The Man Who Saves The World? Movie Premiere <br /><br />03/06/26 06:00 PM MST - 03/06/26 09:00 PM MST<br />Description:<br />This wild, funny, and deeply moving journey follows Patrick McCollum directed by filmmaker Gabe Polsky&mdash;an unlikely peace advocate drawn into an Indigenous prophecy that may determine the fate of the Amazon and our planet. Part comedy, part spiritual quest, the film invites audiences to laugh, reflect, and reconsider what responsibility to the Earth truly looks like.
<p dir="ltr">Backed by trailblazers in conservation and entertainment&mdash;including&nbsp;<strong>Jane Goodall, Peter Farrelly, Danny McBride, David Gordon Green, and Jody Hill</strong>&mdash;the documentary blends humor, heart, and urgency in a way that transcends categories. It was recently selected by The Hollywood Reporter as one of the Top 6 documentaries of the year.</p>
<br />Details:<br /><p dir="ltr">$15 General Admission</p>
<br />Location:<br />Ute Theater<br />132 E 4th St<br />Rifle, CO 81650
PRIORITY:3
TRANSP:TRANSPARENT
BEGIN:VALARM
TRIGGER:-PT5M
ACTION:DISPLAY
DESCRIPTION:Reminder
END:VALARM
END:VEVENT
END:VCALENDAR
