BEGIN:VCALENDAR
VERSION:2.0
CALSCALE:GREGORIAN
METHOD:PUBLISH
PRODID://WGCC//1416460
BEGIN:VEVENT
DTSTAMP:20260420T131749
VTIMEZONE:America/Denver
DTSTART:20260311T000000Z
DTEND:20260311T013000Z
UID:1416460
SUMMARY:Town of Parachute Mayor & Town Council Forum
LOCATION:Parachute Town Hall, 222 Grand Valley Way, Parachute, CO, 81635
DESCRIPTION:Town of Parachute Mayor & Town Council Forum\n\n03/10/26 06:00 PM MST\n - 03/10/26 07:30 PM MST\Description:\nJoin the Colorado River Valley Chamber of Commerce for a nonpartisan, moderated community forum featuring candidates for Parachute Mayor and Town Council. Hear directly from the candidates, learn about key local issues, and participate in a live Q&A designed to help voters make informed decisions. Open to the public; attend in person or watch live.\Location:\nParachute Town Hall\n222 Grand Valley Way\nParachute, CO 81635
X-ALT-DESC;FMTTYPE=text/html:Town of Parachute Mayor & Town Council Forum<br /><br />03/10/26 06:00 PM MST - 03/10/26 07:30 PM MST<br />Description:<br />Join the Colorado River Valley Chamber of Commerce for a nonpartisan, moderated community forum featuring candidates for Parachute Mayor and Town Council. Hear directly from the candidates, learn about key local issues, and participate in a live Q&amp;A designed to help voters make informed decisions. Open to the public; attend in person or watch live.<br />Location:<br />Parachute Town Hall<br />222 Grand Valley Way<br />Parachute, CO 81635
PRIORITY:3
TRANSP:TRANSPARENT
BEGIN:VALARM
TRIGGER:-PT5M
ACTION:DISPLAY
DESCRIPTION:Reminder
END:VALARM
END:VEVENT
END:VCALENDAR
