BEGIN:VCALENDAR
VERSION:2.0
CALSCALE:GREGORIAN
METHOD:PUBLISH
PRODID://WGCC//1417076
BEGIN:VEVENT
DTSTAMP:20260420T133111
VTIMEZONE:America/Denver
DTSTART:20260311T180000Z
DTEND:20260311T190000Z
UID:1417076
SUMMARY:Valley View University - How Gut Health Supports Longevity
LOCATION:https://vvh.zoom.us/webinar/register/3217706683349/WN_BAPORCiBTTKHmsmiSxIrhA, CO
DESCRIPTION:Valley View University - How Gut Health Supports Longevity\n\n03/11/26 12:00 PM MST\n - 03/11/26 01:00 PM MST\Description:\nJoin for a virtual discussion on supporting digestive health, recognizing signs of digestive conditions and understanding today's treatment options. This 30-minute webinar, followed by open Q&A, will be led by Valley View Gastroenterology Center's Interventional Gastroenterologist Bob Etemad, MD.\n\Details:\nThere is no cost to attend this webinar.\Location:\nhttps://vvh.zoom.us/webinar/register/3217706683349/WN_BAPORCiBTTKHmsmiSxIrhA\n\n, CO
X-ALT-DESC;FMTTYPE=text/html:Valley View University - How Gut Health Supports Longevity<br /><br />03/11/26 12:00 PM MST - 03/11/26 01:00 PM MST<br />Description:<br /><p>Join for a virtual discussion on supporting digestive health, recognizing signs of digestive conditions and understanding today's treatment options. This 30-minute webinar, followed by open Q&amp;A, will be led by Valley View Gastroenterology Center's Interventional Gastroenterologist Bob Etemad, MD.</p>
<br />Details:<br />There is no cost to attend this webinar.<br />Location:<br />https://vvh.zoom.us/webinar/register/3217706683349/WN_BAPORCiBTTKHmsmiSxIrhA<br /><br />, CO 
PRIORITY:3
TRANSP:TRANSPARENT
BEGIN:VALARM
TRIGGER:-PT5M
ACTION:DISPLAY
DESCRIPTION:Reminder
END:VALARM
END:VEVENT
END:VCALENDAR
