BEGIN:VCALENDAR
VERSION:2.0
CALSCALE:GREGORIAN
METHOD:PUBLISH
PRODID://WGCC//1417938
BEGIN:VEVENT
DTSTAMP:20260420T131441
VTIMEZONE:America/Denver
DTSTART:20260311T233000Z
DTEND:20260312T010000Z
UID:1417938
SUMMARY:CANCELLED -CRVCC Workshop- CRVEDP
LOCATION:
DESCRIPTION:CANCELLED -CRVCC Workshop- CRVEDP\n\n03/11/26 05:30 PM MST\n - 03/11/26 07:00 PM MST\Description:\nWe're pleased to share a special presentation from the Colorado River Valley Economic Development Partnership (CRVEDP) exploring the Economic Development Strategy for the Colorado River Valley and key insights about our region.\n\nWhile our regularly scheduled CRVCC Workshop had to be canceled due to illness, we wanted to ensure our members and community still have the access to this important regional information.\n\nThis presentation provides a valuable overview of the strategy, highlighting priorities, opportunities, and trends shaping the future of our local economy.\n\nTo receive the viewing link and access code for the recorded presentation, please register using the link provided. A confirmation email with the access details will be sent shortly after registration.\n\nRead the Full Economic Development Strategy\nExplore the data, priorities, and opportunities shaping the future of the Colorado River Valley. Scan the QR code to download the full report.\n
X-ALT-DESC;FMTTYPE=text/html:CANCELLED -CRVCC Workshop- CRVEDP<br /><br />03/11/26 05:30 PM MST - 03/11/26 07:00 PM MST<br />Description:<br /><p data-end="437" data-start="202"><strong>We're pleased to share a special presentation from the Colorado River Valley Economic Development Partnership (CRVEDP) exploring the Economic Development Strategy for the Colorado River Valley and key insights about our region.</strong><br />
<br />
While our regularly scheduled CRVCC Workshop had to be canceled due to illness, we wanted to ensure our members and community still have the access to this important regional information.<br />
<br />
This presentation provides a valuable overview of the strategy, highlighting priorities, opportunities, and trends shaping the future of our local economy.<br />
<br />
To receive the viewing link and access code for the recorded presentation, please register using the link provided. A confirmation email with the access details will be sent shortly after registration.<br />
<br />
<strong>Read the Full Economic Development Strategy</strong><br />
Explore the data, priorities, and opportunities shaping the future of the Colorado River Valley. Scan the&nbsp;QR code to download the full report.</p>

PRIORITY:3
TRANSP:TRANSPARENT
BEGIN:VALARM
TRIGGER:-PT5M
ACTION:DISPLAY
DESCRIPTION:Reminder
END:VALARM
END:VEVENT
END:VCALENDAR
