BEGIN:VCALENDAR
VERSION:2.0
CALSCALE:GREGORIAN
METHOD:PUBLISH
PRODID://WGCC//1422230
BEGIN:VEVENT
DTSTAMP:20260420T163704
VTIMEZONE:America/Denver
DTSTART:20260709T233000Z
DTEND:20260710T010000Z
UID:1422230
SUMMARY:Business After Hours with AG Flooring
LOCATION:AG Flooring, 541 Main Street, Silt, CO, 81652
DESCRIPTION:Business After Hours with AG Flooring\n\n07/09/26 05:30 PM MST\n - 07/09/26 07:00 PM MST\Description:\nNetwork, connect, and unwind at AG Flooring in Silt! Join us for an evening of great conversations and local connections you won’t want to miss.\n\Location:\nAG Flooring\n541 Main Street\nSilt, CO 81652
X-ALT-DESC;FMTTYPE=text/html:Business After Hours with AG Flooring<br /><br />07/09/26 05:30 PM MST - 07/09/26 07:00 PM MST<br />Description:<br /><p data-end="583" data-start="402">Network, connect, and unwind at AG Flooring in Silt!&nbsp;Join us for an evening of great conversations and local connections you won&rsquo;t want to miss.</p>
<br />Location:<br />AG Flooring<br />541 Main Street<br />Silt, CO 81652
PRIORITY:3
TRANSP:TRANSPARENT
BEGIN:VALARM
TRIGGER:-PT5M
ACTION:DISPLAY
DESCRIPTION:Reminder
END:VALARM
END:VEVENT
END:VCALENDAR
