BEGIN:VCALENDAR
VERSION:2.0
CALSCALE:GREGORIAN
METHOD:PUBLISH
PRODID://WGCC//1422277
BEGIN:VEVENT
DTSTAMP:20260420T201811
VTIMEZONE:America/Denver
DTSTART:20260915T233000Z
DTEND:20260916T010000Z
UID:1422277
SUMMARY:Business After Hours with Silt Historical Park
LOCATION:Silt Historical Park, 707 Orchard Ave, Silt, CO, 81652
DESCRIPTION:Business After Hours with Silt Historical Park\n\n09/15/26 05:30 PM MST\n - 09/15/26 07:00 PM MST\Description:\nCome on down to Silt for a Business After Hours with the Silt Historical Park! Enjoy an evening of networking, connection, and a little local history. We hope to see you there!\Location:\nSilt Historical Park\n707 Orchard Ave\nSilt, CO 81652
X-ALT-DESC;FMTTYPE=text/html:Business After Hours with Silt Historical Park<br /><br />09/15/26 05:30 PM MST - 09/15/26 07:00 PM MST<br />Description:<br />Come on down to Silt for a <strong data-end="155" data-start="131">Business After Hours</strong> with the <strong data-end="189" data-start="165">Silt Historical Park</strong>! Enjoy an evening of networking, connection, and a little local history. We hope to see you there!<br />Location:<br />Silt Historical Park<br />707 Orchard Ave<br />Silt, CO 81652
PRIORITY:3
TRANSP:TRANSPARENT
BEGIN:VALARM
TRIGGER:-PT5M
ACTION:DISPLAY
DESCRIPTION:Reminder
END:VALARM
END:VEVENT
END:VCALENDAR
