BEGIN:VCALENDAR
VERSION:2.0
CALSCALE:GREGORIAN
METHOD:PUBLISH
PRODID://WGCC//1422455
BEGIN:VEVENT
DTSTAMP:20260420T182816
VTIMEZONE:America/Denver
DTSTART:20260813T233000Z
DTEND:20260814T010000Z
UID:1422455
SUMMARY:Business After Hours with Grand River Health
LOCATION:Grand River Health, 201 Sipprelle Dr., Battlement Mesa, CO, 81635
DESCRIPTION:Business After Hours with Grand River Health\n\n08/13/26 05:30 PM MST\n - 08/13/26 07:00 PM MST\Description:\nWe’re excited to host Business After Hours with Grand River Health Clinic West! Don’t miss this opportunity to connect with other local businesses in a relaxed setting. We hope to see you there!\Location:\nGrand River Health\n201 Sipprelle Dr.\nBattlement Mesa, CO 81635
X-ALT-DESC;FMTTYPE=text/html:Business After Hours with Grand River Health<br /><br />08/13/26 05:30 PM MST - 08/13/26 07:00 PM MST<br />Description:<br />We&rsquo;re excited to host Business After Hours with Grand River Health Clinic West! Don&rsquo;t miss this opportunity to connect with other local businesses in a relaxed setting. We hope to see you there!<br />Location:<br />Grand River Health<br />201 Sipprelle Dr.<br />Battlement Mesa, CO 81635
PRIORITY:3
TRANSP:TRANSPARENT
BEGIN:VALARM
TRIGGER:-PT5M
ACTION:DISPLAY
DESCRIPTION:Reminder
END:VALARM
END:VEVENT
END:VCALENDAR
