BEGIN:VCALENDAR
VERSION:2.0
CALSCALE:GREGORIAN
METHOD:PUBLISH
PRODID://WGCC//1425983
BEGIN:VEVENT
DTSTAMP:20260420T145443
VTIMEZONE:America/Denver
DTSTART:20260416T230000Z
DTEND:20260416T233000Z
UID:1425983
SUMMARY:Ribbon-Cutting for Rifle Creek Golf Course
LOCATION:Rifle Creek Golf Course, 3004 CO-325, Rifle, CO, 81650
DESCRIPTION:Ribbon-Cutting for Rifle Creek Golf Course\n\n04/16/26 05:00 PM MST\n - 04/16/26 05:30 PM MST\Description:\nJoin us in celebrating an exciting new chapter at Rifle Creek Golf Course!\n\nThe community is invited to a special Ribbon Cutting honoring the course’s new ownership. Come connect with fellow Chamber members, local leaders, and community supporters as we officially welcome this transition.\n\nFollowing the ceremony, stick around for a Business After Hours gathering at The Rough Bar & Grill starting at 5:30 PM—an opportunity to network, unwind, and enjoy great company in a beautiful setting.\n\nEvent Details:\nðŸ“… Thursday, April 16\nâ° Ribbon Cutting at 5:00 PM\nðŸ» Business After Hours to follow at 5:30 PM\n\nWe look forward to celebrating with you!\n\n \n\Location:\nRifle Creek Golf Course\n3004 CO-325\nRifle, CO 81650
X-ALT-DESC;FMTTYPE=text/html:Ribbon-Cutting for Rifle Creek Golf Course<br /><br />04/16/26 05:00 PM MST - 04/16/26 05:30 PM MST<br />Description:<br /><p data-end="74" data-start="0">Join us in celebrating an exciting new chapter at Rifle Creek Golf Course!</p>

<p data-end="289" data-start="76">The community is invited to a special Ribbon Cutting honoring the course&rsquo;s new ownership. Come connect with fellow Chamber members, local leaders, and community supporters as we officially welcome this transition.</p>

<p data-end="492" data-start="291">Following the ceremony, stick around for a Business After Hours gathering at The Rough Bar &amp; Grill starting at 5:30 PM&mdash;an opportunity to network, unwind, and enjoy great company in a beautiful setting.</p>

<p data-end="615" data-start="494"><strong data-end="512" data-start="494">Event Details:</strong><br data-end="515" data-start="512" />
ðŸ“… Thursday, April 16<br data-end="539" data-start="536" />
â° Ribbon Cutting at 5:00 PM<br data-end="569" data-start="566" />
ðŸ» Business After Hours to follow at 5:30 PM</p>

<p data-end="657" data-is-last-node="" data-is-only-node="" data-start="617">We look forward to celebrating with you!</p>

<p data-end="492" data-start="291">&nbsp;</p>
<br />Location:<br />Rifle Creek Golf Course<br />3004 CO-325<br />Rifle, CO 81650
PRIORITY:3
TRANSP:TRANSPARENT
BEGIN:VALARM
TRIGGER:-PT5M
ACTION:DISPLAY
DESCRIPTION:Reminder
END:VALARM
END:VEVENT
END:VCALENDAR
