BEGIN:VCALENDAR
VERSION:2.0
CALSCALE:GREGORIAN
METHOD:PUBLISH
PRODID://WGCC//1427088
BEGIN:VEVENT
DTSTAMP:20260420T145443
VTIMEZONE:America/Denver
DTSTART:20260623T180000Z
DTEND:20260623T193000Z
UID:1427088
SUMMARY:"Dealing with Humans" Luncheon with Don Chaney
LOCATION:Grand River Health, 501 Airport Rd, Rifle, CO, 81650
DESCRIPTION:"Dealing with Humans" Luncheon with Don Chaney\n\n06/23/26 12:00 PM MST\n - 06/23/26 01:30 PM MST\Description:\nHumans connect with each other less and less every day, both on a personal, and a business level. It seems as though every year, there are fewer places where people feel both accepted and comfortable. Fewer places where they feel someone understands them, even if it is on a simplified level. With every human interaction we partake in, we unconsciously hope for a set of human needs to be met.\n\nIf you are in business, you should not only on focus on giving customers what they want, you should learn and give them what they NEED, and that is real human interaction, understanding, and empathy. I TRULY believe people who serve others for a living can set the example to the WORLD as to how people should treat each other.\n\nIt starts with us.\n\n*Spanish translation is available*\n\Location:\nGrand River Health\n501 Airport Rd\nRifle, CO 81650
X-ALT-DESC;FMTTYPE=text/html:"Dealing with Humans" Luncheon with Don Chaney<br /><br />06/23/26 12:00 PM MST - 06/23/26 01:30 PM MST<br />Description:<br /><p>Humans connect with each other less and less every day, both on a personal, and a business level. It seems as though every year, there are fewer places where people feel both accepted and comfortable. Fewer places where they feel someone understands them, even if it is on a simplified level. With every human interaction we partake in, we unconsciously hope for a set of human needs to be met.</p>

<p>If you are in business, you should not only on focus on giving customers what they want, you should learn and give them what they NEED, and that is real human interaction, understanding, and empathy. I TRULY believe people who serve others for a living can set the example to the WORLD as to how people should treat each other.</p>

<p>It starts with us.<br />
<br />
*Spanish translation is available*</p>
<br />Location:<br />Grand River Health<br />501 Airport Rd<br />Rifle, CO 81650
PRIORITY:3
TRANSP:TRANSPARENT
BEGIN:VALARM
TRIGGER:-PT5M
ACTION:DISPLAY
DESCRIPTION:Reminder
END:VALARM
END:VEVENT
END:VCALENDAR
