BEGIN:VCALENDAR
VERSION:2.0
CALSCALE:GREGORIAN
METHOD:PUBLISH
PRODID://WGCC//1427137
BEGIN:VEVENT
DTSTAMP:20260420T215742
VTIMEZONE:America/Denver
DTSTART:20261118T003000Z
DTEND:20261118T020000Z
UID:1427137
SUMMARY:Business After Hours with Grand Valley Recreation Center
LOCATION:Grand Valley Recreation Center, 398 Aryoyo Drive, Battlement Mesa, CO, 81635
DESCRIPTION:Business After Hours with Grand Valley Recreation Center\n\n11/17/26 05:30 PM MST\n - 11/17/26 07:00 PM MST\Description:\nLooking to grow your network? Join us this November for Business After Hours at the Recreation Center! Connect with fellow business professionals, exchange ideas, and unwind after the workday in a fun and welcoming atmosphere. Don’t miss this opportunity to build meaningful connections in our community!\n\Location:\nGrand Valley Recreation Center\n398 Aryoyo Drive\nBattlement Mesa, CO 81635
X-ALT-DESC;FMTTYPE=text/html:Business After Hours with Grand Valley Recreation Center<br /><br />11/17/26 05:30 PM MST - 11/17/26 07:00 PM MST<br />Description:<br /><p data-end="741" data-start="397">Looking to grow your network? Join us this November for Business After Hours at the Recreation Center! Connect with fellow business professionals, exchange ideas, and unwind after the workday in a fun and welcoming atmosphere. Don&rsquo;t miss this opportunity to build meaningful connections in our community!</p>
<br />Location:<br />Grand Valley Recreation Center<br />398 Aryoyo Drive<br />Battlement Mesa, CO 81635
PRIORITY:3
TRANSP:TRANSPARENT
BEGIN:VALARM
TRIGGER:-PT5M
ACTION:DISPLAY
DESCRIPTION:Reminder
END:VALARM
END:VEVENT
END:VCALENDAR
