BEGIN:VCALENDAR
VERSION:2.0
CALSCALE:GREGORIAN
METHOD:PUBLISH
PRODID://WGCC//1428029
BEGIN:VEVENT
DTSTAMP:20260420T182815
VTIMEZONE:America/Denver
DTSTART:20260801T160000Z
DTEND:20260801T180000Z
UID:1428029
SUMMARY:Garfield County Fair Parade- Kick Start to Fair Week
LOCATION:Railroad Ave, 840 Main Street, Rifle, CO, 81650
DESCRIPTION:Garfield County Fair Parade- Kick Start to Fair Week\n\n08/01/26 10:00 AM MST\n - 08/01/26 12:00 PM MST\Description:\nRed, White & Blue, A Fair for You! Join us for the Annual Garfield County Parade\nSetup will begin at 7AM\nJudging at 9AM\nParade starts at 10AM\Location:\nRailroad Ave\n840 Main Street\nRifle, CO 81650
X-ALT-DESC;FMTTYPE=text/html:Garfield County Fair Parade- Kick Start to Fair Week<br /><br />08/01/26 10:00 AM MST - 08/01/26 12:00 PM MST<br />Description:<br />Red, White &amp; Blue, A Fair for You! Join us for the Annual Garfield County Parade<br />
Setup will begin at 7AM<br />
Judging at 9AM<br />
Parade starts at 10AM<br />Location:<br />Railroad Ave<br />840 Main Street<br />Rifle, CO 81650
PRIORITY:3
TRANSP:TRANSPARENT
BEGIN:VALARM
TRIGGER:-PT5M
ACTION:DISPLAY
DESCRIPTION:Reminder
END:VALARM
END:VEVENT
END:VCALENDAR
